BEGIN:VCALENDAR
VERSION:2.0
PRODID:-//100 de locuri din Bucuresti - ECPv5.5.0.1//NONSGML v1.0//EN
CALSCALE:GREGORIAN
METHOD:PUBLISH
X-WR-CALNAME:100 de locuri din Bucuresti
X-ORIGINAL-URL:https://100delocuri.ro
X-WR-CALDESC:Events for 100 de locuri din Bucuresti
BEGIN:VTIMEZONE
TZID:Europe/Bucharest
BEGIN:DAYLIGHT
TZOFFSETFROM:+0200
TZOFFSETTO:+0300
TZNAME:EEST
DTSTART:20180325T010000
END:DAYLIGHT
BEGIN:STANDARD
TZOFFSETFROM:+0300
TZOFFSETTO:+0200
TZNAME:EET
DTSTART:20181028T010000
END:STANDARD
END:VTIMEZONE
BEGIN:VEVENT
DTSTART;TZID=Europe/Bucharest:20180401T090000
DTEND;TZID=Europe/Bucharest:20180401T170000
DTSTAMP:20260418T223849
CREATED:20180328T042900Z
LAST-MODIFIED:20180328T043444Z
UID:9583-1522573200-1522602000@100delocuri.ro
SUMMARY:Vin Floriile cu soare și soarele cu Florii
DESCRIPTION:VIN FLORIILE CU SOARE ȘI SOARELE CU FLORII \nDupă o iarnă care nu mai voia să plece\, Muzeul Național al Satului „Dimitrie Gusti” aduce soarele weekendul acesta prin târgul tradițional de Florii. Vă invităm cu mic\, cu mare\, să ne bucurăm împreună de două zile cu vreme frumoasă și produse tradiționale românești\, aduse de meșteri renumiți din toată țara: ii\, icoane\, ceramică\, flori\, produse din gastronomia tradițională și multe altele. \nFloriile sunt sărbătoarea creștină care marchează intrarea Domnului Iisus Hristos în Ierusalim\, înainte de patimile Sale. În această zi\, în popor sunt sărbătorite persoanele care poartă nume de flori: Nacisa\, Viorica\, Viorel\, Florina\, Florin  etc. Cu această ocazie\, Muzeul Național al Satului „Dimitrie Gusti” le urează un călduros „La mulți ani!” și\, drept cadou\, le oferă intrare liberă în muzeu pe data de 1 aprilie. Gratuitatea se va acorda după prezentarea la casierie a cărții de identitate. \nTârgul se va desfășura sâmbătă și duminică\, pe 31 martie și 1 aprilie\, în incinta Muzeului Național al Satului „Dimitrie Gusti” și va include momente de cântec\, dans și ateliere de creație. Atmosfera va fi animată de actorul Nae Alexandru. \nPROGRAM: \nSÂMBĂTĂ\, 31 MARTIE \n13.00 – Vine\, vine\, primăvara!\nGrupul folcloric Fluieraşii de la Dobroteşti – Teleorman   \n13.30 – Sărbătorile pascale – concurs\nCornel Dumitrescu  \n13.45 – Recunoaşteti poezia! – concurs\nAlexandru Nicolae Mihai – actor  \n13.00 – 14.00 – Încondeierea ouălor – atelier interactiv*\n(Biserica Dragomireşti)\nCristina Niga – Paltinu\, Suceava \n14.00 – 15.00 – Împistrirea… cu mărgele – atelier interactiv*\n(Casa Şanţ)\nMaria Morar – Salva\, Bistriţa-Năsăud	 \n14.00 – 15.00 – Îngerii din icoane – atelier interactiv\, icoane pe sticlă*\n(Biserica Dragomireşti)\nVladimir Baciu – Bucureşti 					  \n* în limita a 10 locuri / atelier.\nTaxa este de 15 lei / persoana / atelier  \n9.00 – 17.00	Târgul de Florii…  creaţii şi creatori populari\, produse din gastronomia tradiţională\, produse bio\, flori. \n— \nDUMINICĂ\, 1 APRILIE \n13.00 – Vin Floriile cu soare şi soarele cu Florii… – versuri şi bucurie\nAlexandru Nicolae Mihai – actor 		 \n13.15 – Flori de primăvară …\nFlorin Ologeanu – Alexandria\, Teleorman \n13.30 – Floriile cu bucurie… ziceri şi cântări cu Doina Lavric  \n14.00 – Anuala de Artă Plastică Religioasă – vernisaj\nColaborare cu Asociaţia Filială Artă Plastică Religioasă şi Restaurare a UAP din România \n15.30 – Cânece de dor şi dragoste la Marele Praznic\nGheorghiţa Nicolae – Bucinişu\, Olt\nNarcisa Băleanu – Drobeta Turnu-Severin\, Mehedinţi\nGabriel Dumitru – Piteşti\, Argeş \nPrezintă actorul Alexandru Nicolae Mihai  \n9.00 – 17.00 – Târgul de Florii… creaţii şi creatori populari\, produse din gastronomia tradiţională\, produse bio\, flori
URL:https://100delocuri.ro/eveniment/vin-floriile-cu-soare-si-soarele-cu-florii/
LOCATION:Muzeul National al Satului “Dimitrie Gusti”\, Șoseaua Kiseleff nr. 28-30\, sector 1\, Bucharest\, 011347\, RO
CATEGORIES:Idei
ATTACH;FMTTYPE=image/jpeg:https://100delocuri.ro/wp-content/uploads/2018/03/9583_image_28953829_1923135397729057_7561684712584598016_o.jpg
END:VEVENT
END:VCALENDAR