BEGIN:VCALENDAR
VERSION:2.0
PRODID:-//100 de locuri din Bucuresti - ECPv5.5.0.1//NONSGML v1.0//EN
CALSCALE:GREGORIAN
METHOD:PUBLISH
X-WR-CALNAME:100 de locuri din Bucuresti
X-ORIGINAL-URL:https://100delocuri.ro
X-WR-CALDESC:Events for 100 de locuri din Bucuresti
BEGIN:VTIMEZONE
TZID:Europe/Bucharest
BEGIN:DAYLIGHT
TZOFFSETFROM:+0200
TZOFFSETTO:+0300
TZNAME:EEST
DTSTART:20180325T010000
END:DAYLIGHT
BEGIN:STANDARD
TZOFFSETFROM:+0300
TZOFFSETTO:+0200
TZNAME:EET
DTSTART:20181028T010000
END:STANDARD
END:VTIMEZONE
BEGIN:VEVENT
DTSTART;TZID=Europe/Bucharest:20180401T100000
DTEND;TZID=Europe/Bucharest:20180401T210000
DTSTAMP:20260417T084100
CREATED:20180328T042849Z
LAST-MODIFIED:20180328T043440Z
UID:9569-1522576800-1522616400@100delocuri.ro
SUMMARY:Târg de Paște - Tradiții și Flori de Sărbători
DESCRIPTION:Primăria Capitalei\, prin creart\, organizează „Tradiții și Flori de Sărbători”\, cel mai mare eveniment dedicat Sărbătorilor Pascale din București\, în perioada 30 martie – 9 aprilie 2018\, în Parcul Regele Mihai I (Parcul Herăstrău). \nAjuns la cea de-a IX-a ediție\, „Tradiții și Flori de Sărbători” își propune să valorifice arta tradițională și să readucă în atenția publicului valorile autentice românești. \n✔ Târg de produse tradiționale\n✔ Spectacole și concerte\n✔ Activități și ateliere de creație pentru copii\n✔ Expoziție de iepuri și miei \nVă așteptăm! #intrareliberă
URL:https://100delocuri.ro/eveniment/targ-de-paste-traditii-si-flori-de-sarbatori-2-9/
LOCATION:Herăstrău Park\, Bucharest\, RO
CATEGORIES:Idei
ATTACH;FMTTYPE=image/jpeg:https://100delocuri.ro/wp-content/uploads/2018/03/9569_image_29388805_1463489177096422_3368468053397340160_o.jpg
END:VEVENT
END:VCALENDAR