BEGIN:VCALENDAR
VERSION:2.0
PRODID:-//100 de locuri din Bucuresti - ECPv5.5.0.1//NONSGML v1.0//EN
CALSCALE:GREGORIAN
METHOD:PUBLISH
X-WR-CALNAME:100 de locuri din Bucuresti
X-ORIGINAL-URL:https://100delocuri.ro
X-WR-CALDESC:Events for 100 de locuri din Bucuresti
BEGIN:VTIMEZONE
TZID:Europe/Bucharest
BEGIN:DAYLIGHT
TZOFFSETFROM:+0200
TZOFFSETTO:+0300
TZNAME:EEST
DTSTART:20180325T010000
END:DAYLIGHT
BEGIN:STANDARD
TZOFFSETFROM:+0300
TZOFFSETTO:+0200
TZNAME:EET
DTSTART:20181028T010000
END:STANDARD
END:VTIMEZONE
BEGIN:VEVENT
DTSTART;TZID=Europe/Bucharest:20180401T100000
DTEND;TZID=Europe/Bucharest:20180401T180000
DTSTAMP:20260417T151820
CREATED:20180328T042806Z
LAST-MODIFIED:20180328T043428Z
UID:9519-1522576800-1522605600@100delocuri.ro
SUMMARY:Târg de Florii cu bijuterii\, pietre preţioase şi semipreţioase
DESCRIPTION:TÂRG DE FLORII – Cel mai preţios târg al primăverii\nSărbătoreşte venirea primăverii cu cele mai frumoase creaţii ale bijutierilor români ce au ridicat handmade-ul la grad de artă.\nBijuterii unicat\, bijuterii statement sau delicate\, pietre preţioase şi semipreţioase\, cristale pentru protecţie\, pe toate le găsiţi între 30 martie şi 1 aprilie la Muzeul Naţional de Geologie\, în Bucureşti.\nFie că vrei să faci un cadou sau să îţi faci un dar special\, la Târgul de Florii găseşti accesorii care te vor scoate din anonimat.\n#bijuterii #bijuteriiunicat #targdepietregeologie
URL:https://100delocuri.ro/eveniment/targ-de-florii-cu-bijuterii-pietre-pretioase-si-semipretioase/
LOCATION:Muzeul Național De Geologie\, Sos. Kiseleff nr. 2\, Bucharest\, RO
CATEGORIES:Idei
ATTACH;FMTTYPE=image/jpeg:https://100delocuri.ro/wp-content/uploads/2018/03/9519_image_29468845_958916597607461_1087837986006132764_n.jpg
END:VEVENT
END:VCALENDAR