BEGIN:VCALENDAR
VERSION:2.0
PRODID:-//100 de locuri din Bucuresti - ECPv5.5.0.1//NONSGML v1.0//EN
CALSCALE:GREGORIAN
METHOD:PUBLISH
X-WR-CALNAME:100 de locuri din Bucuresti
X-ORIGINAL-URL:https://100delocuri.ro
X-WR-CALDESC:Events for 100 de locuri din Bucuresti
BEGIN:VTIMEZONE
TZID:Europe/Bucharest
BEGIN:DAYLIGHT
TZOFFSETFROM:+0200
TZOFFSETTO:+0300
TZNAME:EEST
DTSTART:20180325T010000
END:DAYLIGHT
BEGIN:STANDARD
TZOFFSETFROM:+0300
TZOFFSETTO:+0200
TZNAME:EET
DTSTART:20181028T010000
END:STANDARD
END:VTIMEZONE
BEGIN:VEVENT
DTSTART;TZID=Europe/Bucharest:20180331T190000
DTEND;TZID=Europe/Bucharest:20180331T220000
DTSTAMP:20260415T121718
CREATED:20180328T042804Z
LAST-MODIFIED:20180328T043427Z
UID:9516-1522522800-1522533600@100delocuri.ro
SUMMARY:Suflet în Culori - ediție aniversară
DESCRIPTION:În fiecare an\, în ziua de 2 aprilie\, spunem la unison: „Autismul există\, e datoria noastră să cunoaștem\, să acceptăm și să ajutăm!”. Acesta este mesajul Zilei Internaționale de conștientizare a autismului. \nÎn preajma acestei zile\, îndemnul nostru de conștientizare și sprijinul pentru copiii speciali vine pe note de muzică clasică\, la concertul caritabil „Suflet în culori”\, organizat împreună cu Asociația Help Autism\, Ministerul Culturii și Identității Naționale\, National Museum of Art of Romania\, Kaufland Romania\, Muzeul National al Satului “Dimitrie Gusti”\, Muzeul Național “George Enescu”\, Centrul National de Arta Tinerimea Romana (Cofinantat prin programul Europa Creativa al Uniunii Europene)\, Centrul Infoeuropa\, Wagner Arte Frumoase si Povesti\, Floria\, AQUA Carpatica și Domeniile Samburesti. \nSâmbătă\, 31 martie\, cea de-a V-a ediție “Suflet în culori” îi aduce pe scena sălii Auditorium a Muzeului Național de Artă al României (Str. Ştirbei Vodă nr. 1\, Bucureşti) pe soprana Rodica Vica\, mezzosoprana Andreea Iftimescu și baritonul Vlad Crosman\, acompaniați de ansamblul Musica Ricercata sub bagheta dirijorului Gabriel Bebeselea. \nVă invităm să lăsați magia interpretării unora dintre cei mai talentați artiști români să vă cuprindă sufletele\, iar împreună să transformăm miracolul muzicii în miracolul recuperării copiilor cu autism. \nPuteți fi alături de noi în seara zilei de 31 martie\, donând o oră de terapie în valoare de 35 lei\, pentru unul dintre cei 500 de copii speciali susținuți de Asociația Help Autism. \nDonațiile pot fi făcute pe: http://helpautism.galantom.ro/fundraising-pages/view?id=5434
URL:https://100delocuri.ro/eveniment/suflet-in-culori-editie-aniversara/
CATEGORIES:Idei
ATTACH;FMTTYPE=image/jpeg:https://100delocuri.ro/wp-content/uploads/2018/03/9516_image_29178850_878319979017000_7896185012309425005_n.jpg
END:VEVENT
END:VCALENDAR