BEGIN:VCALENDAR
VERSION:2.0
PRODID:-//100 de locuri din Bucuresti - ECPv5.5.0.1//NONSGML v1.0//EN
CALSCALE:GREGORIAN
METHOD:PUBLISH
X-WR-CALNAME:100 de locuri din Bucuresti
X-ORIGINAL-URL:https://100delocuri.ro
X-WR-CALDESC:Events for 100 de locuri din Bucuresti
BEGIN:VTIMEZONE
TZID:Europe/Bucharest
BEGIN:DAYLIGHT
TZOFFSETFROM:+0200
TZOFFSETTO:+0300
TZNAME:EEST
DTSTART:20180325T010000
END:DAYLIGHT
BEGIN:STANDARD
TZOFFSETFROM:+0300
TZOFFSETTO:+0200
TZNAME:EET
DTSTART:20181028T010000
END:STANDARD
END:VTIMEZONE
BEGIN:VEVENT
DTSTART;TZID=Europe/Bucharest:20180401T100000
DTEND;TZID=Europe/Bucharest:20180401T190000
DTSTAMP:20260418T175303
CREATED:20180321T160412Z
LAST-MODIFIED:20180321T160651Z
UID:9354-1522576800-1522609200@100delocuri.ro
SUMMARY:SIAB - Salonul International de Automobile Bucuresti 2018
DESCRIPTION:SALONUL INTERNAȚIONAL DE AUTOMOBILE BUCUREȘTI (SIAB) revine dupa 11 ani de pauză\, fiind unul dintre cele mai importante evenimente din domeniul automobilelor\, desfășurate la nivel european în anul 2018! \nOrganizat în noile pavilioane Romexpo\, SIAB este deschis pentru public între 24 martie și 1 aprilie și își propune să aducă sub același acoperiș marea majoritate a marcilor de automobile prezente în România\, noutăți și concepte ale acestora\, dar și vehicule pe două roți\, echipamente și accesorii.  \nNe dorim să integrăm toate aspectele mobilitătii\, fiind expuse tehnologii pe care industria auto le propune pentru reducerea poluării din marile orașe\, dar și servicii și furnizori pentru serviciile de mobilitate.  \nProgram de vizitare SIAB pentru public:\n              – 24 – 31 martie: 10:00 – 20:00;\n              – 1 aprilie: 10:00 – 19:00. \nBilet intrare: 30 lei/zi. Biletele pot fi achiziționate și online de pe: romexpo.ro/bilete/ro/home \nIntrare gratuită: copiii sub 7 ani insoțiți de părinți\, persoanele cu dizabilități și persoanele instituționalizate.\nNu este permis accesul copiilor sub 7 ani neînsoțiți de un adult.  \nVineri\, 23 martie este zi dedicată exclusiv PRESEI. Astfel\, SIAB este închis pentru publicul larg!  \nSalonul International de Automobile Bucuresti este acreditat de catre Organizația Internaționala a Constructorilor de Automobile (OICA) și este organizat de Romexpo în colaborare cu Camera de Comerț și Industrie a României și în parteneriat cu Asociația Producătorilor și Importatorilor de Automobile (APIA). \nPentru a afla primul toate noutățile pe care ți le pregătim\, ne poți urmări pe pagina de Facebook SIAB – Salonul International de Automobile Bucuresti sau pe siab.ro.  \nTe așteptăm!
URL:https://100delocuri.ro/eveniment/siab-salonul-international-de-automobile-bucuresti-2018/
LOCATION:Romexpo\, Bd. Marasti nr. 65-67\, sector 1\, Bucharest\, 011465\, RO
CATEGORIES:Idei
ATTACH;FMTTYPE=image/jpeg:https://100delocuri.ro/wp-content/uploads/2018/03/9354_image_28279042_1337692786334807_2185501382468188744_n.jpg
END:VEVENT
END:VCALENDAR